BEGIN:VCALENDAR
VERSION:2.0
PRODID:-//Willie Mae&#039;s Place - ECPv6.15.17.1//NONSGML v1.0//EN
CALSCALE:GREGORIAN
METHOD:PUBLISH
X-WR-CALNAME:Willie Mae&#039;s Place
X-ORIGINAL-URL:https://williemaesplace.com
X-WR-CALDESC:Events for Willie Mae&#039;s Place
REFRESH-INTERVAL;VALUE=DURATION:PT1H
X-Robots-Tag:noindex
X-PUBLISHED-TTL:PT1H
BEGIN:VTIMEZONE
TZID:America/New_York
BEGIN:DAYLIGHT
TZOFFSETFROM:-0500
TZOFFSETTO:-0400
TZNAME:EDT
DTSTART:20220313T070000
END:DAYLIGHT
BEGIN:STANDARD
TZOFFSETFROM:-0400
TZOFFSETTO:-0500
TZNAME:EST
DTSTART:20221106T060000
END:STANDARD
BEGIN:DAYLIGHT
TZOFFSETFROM:-0500
TZOFFSETTO:-0400
TZNAME:EDT
DTSTART:20230312T070000
END:DAYLIGHT
BEGIN:STANDARD
TZOFFSETFROM:-0400
TZOFFSETTO:-0500
TZNAME:EST
DTSTART:20231105T060000
END:STANDARD
BEGIN:DAYLIGHT
TZOFFSETFROM:-0500
TZOFFSETTO:-0400
TZNAME:EDT
DTSTART:20240310T070000
END:DAYLIGHT
BEGIN:STANDARD
TZOFFSETFROM:-0400
TZOFFSETTO:-0500
TZNAME:EST
DTSTART:20241103T060000
END:STANDARD
END:VTIMEZONE
BEGIN:VEVENT
DTSTART;TZID=America/New_York:20230427T170000
DTEND;TZID=America/New_York:20230427T190000
DTSTAMP:20260421T061203
CREATED:20230403T154734Z
LAST-MODIFIED:20230416T211854Z
UID:10000154-1682614800-1682622000@williemaesplace.com
SUMMARY:Salsa & Bachata Night
DESCRIPTION:Learn how to dance the Salsa and Bachata at Willie Mae’s Place on Thursday April 27th from 6pm-8pm! $15/per person. \nFood and soft drinks will be available for purchase. BYOB. Outside food and mixers prohibited.
URL:https://williemaesplace.com/event/salsa-bachata-night/
LOCATION:Willie Mae’s Place\, 1289 US-209\, Gilbert\, PA 18331\, PA\, 18331\, United States
CATEGORIES:Dance class,Entertainment,Food
ATTACH;FMTTYPE=image/jpeg:https://williemaesplace.com/wp-content/uploads/2023/04/3DE7D229-2CB9-4FA6-ADAC-35D0CA4D5925-1.jpg
ORGANIZER;CN="Willie Mae's Place":MAILTO:info@williemaesplace.com
END:VEVENT
END:VCALENDAR