BEGIN:VCALENDAR
VERSION:2.0
PRODID:-//Willie Mae&#039;s Place - ECPv6.15.17.1//NONSGML v1.0//EN
CALSCALE:GREGORIAN
METHOD:PUBLISH
X-WR-CALNAME:Willie Mae&#039;s Place
X-ORIGINAL-URL:https://williemaesplace.com
X-WR-CALDESC:Events for Willie Mae&#039;s Place
REFRESH-INTERVAL;VALUE=DURATION:PT1H
X-Robots-Tag:noindex
X-PUBLISHED-TTL:PT1H
BEGIN:VTIMEZONE
TZID:America/New_York
BEGIN:DAYLIGHT
TZOFFSETFROM:-0500
TZOFFSETTO:-0400
TZNAME:EDT
DTSTART:20220313T070000
END:DAYLIGHT
BEGIN:STANDARD
TZOFFSETFROM:-0400
TZOFFSETTO:-0500
TZNAME:EST
DTSTART:20221106T060000
END:STANDARD
BEGIN:DAYLIGHT
TZOFFSETFROM:-0500
TZOFFSETTO:-0400
TZNAME:EDT
DTSTART:20230312T070000
END:DAYLIGHT
BEGIN:STANDARD
TZOFFSETFROM:-0400
TZOFFSETTO:-0500
TZNAME:EST
DTSTART:20231105T060000
END:STANDARD
BEGIN:DAYLIGHT
TZOFFSETFROM:-0500
TZOFFSETTO:-0400
TZNAME:EDT
DTSTART:20240310T070000
END:DAYLIGHT
BEGIN:STANDARD
TZOFFSETFROM:-0400
TZOFFSETTO:-0500
TZNAME:EST
DTSTART:20241103T060000
END:STANDARD
END:VTIMEZONE
BEGIN:VEVENT
DTSTART;TZID=America/New_York:20230831T170000
DTEND;TZID=America/New_York:20230831T200000
DTSTAMP:20260422T051721
CREATED:20230731T182647Z
LAST-MODIFIED:20230810T115309Z
UID:10000167-1693501200-1693512000@williemaesplace.com
SUMMARY:Bourbon and BBQ Pairing with War Dog Spirits
DESCRIPTION:Bourbon and BBQ Pairing on Thursday August 31st 5pm-8pm \n$20/person \nSpirit flight paired with 2 sides (Coleslaw Mac and cheese) and your choice of (2) meat options. \n1- Cranberry bourbon Meatballs | 2-bbq baby back ribs |3-Smoked BBQ whiskey chicken on a stick \n*Cocktails and Bottle sale purchases will also be available* \n*Enjoy Live Music by Michael Lloret
URL:https://williemaesplace.com/event/bourbon-and-bbq-pairing-with-war-dog-spirits/
LOCATION:Willie Mae’s Place\, 1289 US-209\, Gilbert\, PA 18331\, PA\, 18331\, United States
CATEGORIES:cocktails,Entertainment,Food,Live Music,spirits
ATTACH;FMTTYPE=image/jpeg:https://williemaesplace.com/wp-content/uploads/2023/07/Bourbon-BBQ-Pairing-Facebook-Cover.jpg
ORGANIZER;CN="Willie Mae's Place":MAILTO:info@williemaesplace.com
END:VEVENT
BEGIN:VEVENT
DTSTART;TZID=America/New_York:20230504T160000
DTEND;TZID=America/New_York:20230504T190000
DTSTAMP:20260422T051721
CREATED:20230403T201619Z
LAST-MODIFIED:20230406T203220Z
UID:10000155-1683216000-1683226800@williemaesplace.com
SUMMARY:WARDOG Spirits Bourbon & BBQ Pairing
DESCRIPTION:Join us for a delicious food and spirit pairing event on May 4th! Enjoy our guest distiller from War Dog Spirits and try some of the amazing samples they have available!\n\nCocktails and bottle sales will be available from 5pm-8pm\n\nSpirits Available for purchase:\nSilver King Bourbon\nBRF Bourbon\nPeach Bourbon\nGin 91\nRio Negro\nSpiced Rum\nApple Pie Moonshine\n\n\nCocktails by the glass:\nGin and Tonic ~ Margaritas ~ Rum and Coke
URL:https://williemaesplace.com/event/bourbon-bbq-pairing/
LOCATION:Willie Mae’s Place\, 1289 US-209\, Gilbert\, PA 18331\, PA\, 18331\, United States
CATEGORIES:cocktails,Entertainment,Food,spirits
ATTACH;FMTTYPE=image/png:https://williemaesplace.com/wp-content/uploads/2023/04/bourbon-and-bbq.png
ORGANIZER;CN="Willie Mae's Place":MAILTO:info@williemaesplace.com
END:VEVENT
END:VCALENDAR